BEGIN:VCALENDAR
PRODID:-//www.brisstyle.com.au//EN
VERSION:2.0
METHOD:PUBLISH
BEGIN:VEVENT
DTSTART;TZID=Australia/Brisbane:20200529T160000
DTEND;TZID=Australia/Brisbane:20200529T210000
URL:https://www.brisstyle.com.au/brisbane-twilight-market/
SUMMARY:BrisStyle Twilight Market
END:VEVENT
END:VCALENDAR