BEGIN:VCALENDAR
PRODID:-//www.brisstyle.com.au//EN
VERSION:2.0
METHOD:PUBLISH
BEGIN:VEVENT
DTSTART;TZID=Australia/Brisbane:20190824T100000
DTEND;TZID=Australia/Brisbane:20190824T160000
URL:https://www.brisstyle.com.au/thebrisstylehandmademarkets/
SUMMARY: BrisStyle Handmade Markets
END:VEVENT
END:VCALENDAR