BEGIN:VCALENDAR
PRODID:-//www.brisstyle.com.au//EN
VERSION:2.0
METHOD:PUBLISH
BEGIN:VEVENT
DTSTART;TZID=Australia/Brisbane:20190607T170000
DTEND;TZID=Australia/Brisbane:20190607T210000
URL:https://www.brisstyle.com.au/the-museum-twilight-market/
SUMMARY:Museum Twilight Market
END:VEVENT
END:VCALENDAR